BEGIN:VCALENDAR
VERSION:2.0
PRODID:-//LE NIDO 山中湖 富士山ビューグランピング - ECPv6.15.20//NONSGML v1.0//EN
CALSCALE:GREGORIAN
METHOD:PUBLISH
X-ORIGINAL-URL:https://le-nido.com
X-WR-CALDESC:LE NIDO 山中湖 富士山ビューグランピング のイベント
REFRESH-INTERVAL;VALUE=DURATION:PT1H
X-Robots-Tag:noindex
X-PUBLISHED-TTL:PT1H
BEGIN:VTIMEZONE
TZID:Asia/Tokyo
BEGIN:STANDARD
TZOFFSETFROM:+0900
TZOFFSETTO:+0900
TZNAME:JST
DTSTART:20250101T000000
END:STANDARD
END:VTIMEZONE
BEGIN:VEVENT
DTSTART;VALUE=DATE:20261201
DTEND;VALUE=DATE:20270113
DTSTAMP:20260423T194728
CREATED:20260303T062648Z
LAST-MODIFIED:20260303T062712Z
UID:1289-1796083200-1799798399@le-nido.com
SUMMARY:山中湖イルミネーションファンタジウム
DESCRIPTION:富士山を背景にイルミネーションを満喫「山中湖イルミネーションファンタジウム」\n  \n\n花の都公園で行われる「山中湖イルミネーションファンタジウム」。壮大な富士山ときらめくイルミネーションが楽しめることから人気のライトアップイベント。\n開催期間中は、ライトアップ前に「ダイヤモンド富士」を鑑賞できるかも？ここでしか見られない幻想的な景色をぜひお楽しみください。 \n\n\n  \n\n\n\n\n\n\n\n\n\n\nこの投稿をInstagramで見る\n\n\n\n\n\n\n\n\n\n\n\n\n\n\n\n\n\n\n\n\n\n\n  \n🐳山中湖観光協会イベント情報🐳(@yamanakako_event)がシェアした投稿 \n\n\n \n■開催概要 \n\nこちらは2025年度の内容となります。\n現時点でイベント情報詳細は未定です。情報が入り次第更新いたします。 \n  \n\n\n\n日時\n2025年12月1日（月）～2025年１月12日（日）、17:00~21:00\n※2026年の開催は未定\n\n\n入場料\n400円（中学生以下無料）\n\n\n会場\n山中湖　花の都公園\n山梨県南都留郡山中湖村山中1650\n\n\n駐車場\nあり（普通車300円、バスなど1\,000円）\n\n\nアクセス\n＜お車でお越しの場合＞\n東富士五湖道山中湖ICから約5分\n＜バスでお越しの場合＞\n花の都公園入口バス停から徒歩約3分\n\n\n\n 
URL:https://le-nido.com/event/2026-yamanakako-illumination/
END:VEVENT
END:VCALENDAR