BEGIN:VCALENDAR
VERSION:2.0
PRODID:-//LE NIDO 山中湖 富士山ビューグランピング - ECPv6.15.20//NONSGML v1.0//EN
CALSCALE:GREGORIAN
METHOD:PUBLISH
X-ORIGINAL-URL:https://le-nido.com
X-WR-CALDESC:LE NIDO 山中湖 富士山ビューグランピング のイベント
REFRESH-INTERVAL;VALUE=DURATION:PT1H
X-Robots-Tag:noindex
X-PUBLISHED-TTL:PT1H
BEGIN:VTIMEZONE
TZID:Asia/Tokyo
BEGIN:STANDARD
TZOFFSETFROM:+0900
TZOFFSETTO:+0900
TZNAME:JST
DTSTART:20250101T000000
END:STANDARD
END:VTIMEZONE
BEGIN:VEVENT
DTSTART;VALUE=DATE:20260828
DTEND;VALUE=DATE:20260831
DTSTAMP:20260423T123633
CREATED:20260303T050405Z
LAST-MODIFIED:20260303T050452Z
UID:1259-1787875200-1788134399@le-nido.com
SUMMARY:SWEET LOVE SHOWER 2026
DESCRIPTION:夏の風物詩「ラブシャ」今年も山中湖交流プラザきららで開催決定！\n  \n\nスペースシャワー主催の「SPACE SHOWER SWEET LOVE SHOWER」は夏の終わりの風物詩とも言われる大人気野外音楽フェスティバル。昨年は過去最高の来場者数となる85\,000人を記録。通称ラブシャには、邦楽ロックを中心にスピッツやサカナクション、斉藤和義、Mrs. GREEN APPLEなど豪華なアーティストが出演します。今年はどんなアーティストが出演するのでしょうか。 \n\n\n   \n\n\n\n\n\n\n\n\n\n\nこの投稿をInstagramで見る\n\n\n\n\n\n\n\n\n\n\n\n\n\n\n\n\n\n\n\n\n\n\n \nSWEET LOVE SHOWER(@spaceshower_sweetloveshower)がシェアした投稿 \n\n\n \n■開催概要 \n\nこちらは2025年度の内容となります。\n現時点でイベント情報詳細は未定です。情報が入り次第更新いたします。 \n  \n\n\n\n日時\n2026年8月28日（金）～30日（日）\n(会場)9:00/（開演）10:00を予定\n\n\n入場券\n○1日入場券：5\,000円\n○2日通し入場券：26\,000円\n○3日通し入場券：39\,000円\n○限定早割3日通し入場券：34\,000円\n○有料ラウンジチケット：5\,000円\n○専用ベンチチケット：5\,000円\n\n\n会場\n山梨県山中湖交流プラザきらら\n山梨県南都留郡山中湖村平野479-2\n\n\n駐車場\nあり（オフィシャル駐車場または近隣駐車場をご利用ください）\n\n\nアクセス\n＜お車でお越しの場合＞\n東富士五湖道山中湖ICから約15分\n＜バスでお越しの場合＞\n富士急行富士山駅からバスで約25分\n\n\n\n  \n 
URL:https://le-nido.com/event/2026-sweetloveshower/
LOCATION:交流プラザきらら\, 山梨県南都留郡山中湖村平野479-2\, Japan
END:VEVENT
END:VCALENDAR