BEGIN:VCALENDAR
VERSION:2.0
PRODID:-//LE NIDO 山中湖 富士山ビューグランピング - ECPv6.15.20//NONSGML v1.0//EN
CALSCALE:GREGORIAN
METHOD:PUBLISH
X-WR-CALNAME:LE NIDO 山中湖 富士山ビューグランピング
X-ORIGINAL-URL:https://le-nido.com
X-WR-CALDESC:LE NIDO 山中湖 富士山ビューグランピング のイベント
REFRESH-INTERVAL;VALUE=DURATION:PT1H
X-Robots-Tag:noindex
X-PUBLISHED-TTL:PT1H
BEGIN:VTIMEZONE
TZID:Asia/Tokyo
BEGIN:STANDARD
TZOFFSETFROM:+0900
TZOFFSETTO:+0900
TZNAME:JST
DTSTART:20250101T000000
END:STANDARD
END:VTIMEZONE
BEGIN:VEVENT
DTSTART;VALUE=DATE:20260808
DTEND;VALUE=DATE:20260809
DTSTAMP:20260423T123634
CREATED:20260302T080905Z
LAST-MODIFIED:20260302T081111Z
UID:1253-1786147200-1786233599@le-nido.com
SUMMARY:オープンシネマ野外映画上映会
DESCRIPTION:自然の中で映画を楽しめる「オープンシネマ野外映画上映会」2026年8月8日開催決定\n  \n\n山中湖で開催される無料の野外映画上映会「OPENAIR CINEMA」が今年も8年8日に開催されることが発表されました。\n飲食物の持ち込みも可能で、自然に囲まれながら名作を楽しみませんか？ \n\n\n\n  \n\n\n\n\n\n\n\n\n\n\nこの投稿をInstagramで見る\n\n\n\n\n\n\n\n\n\n\n\n\n\n\n\n\n\n\n\n\n\n\n  \nOPENAIR CINEMA(@project.openaircinema)がシェアした投稿 \n\n\n\n■開催概要 \n  \n\n\n\n日時\n未定（2025年は8月9日に開催）\n\n\n上映開始\n20:00~\n\n\n会場\nゆいの広場「ひらり」\n山梨県南都留郡山中湖村平野98-1\n\n\n鑑賞料金\n無料\n\n\n駐車場\nあり\n\n\nアクセス\n＜お車でお越しの場合＞\n東富士五湖道山中湖ICから約5分\n＜電車・バスでお越しの場合＞\n富士急行富士山駅からバスで約25分\n\n\n\n  \nこちらは2025年の情報です。イベントの最新情報は未定です。
URL:https://le-nido.com/event/2026-openaircinema/
LOCATION:ゆいの広場「ひらり」\, 山梨県\, 南都留郡山中湖村平野９８\, Japan
END:VEVENT
END:VCALENDAR