BEGIN:VCALENDAR
VERSION:2.0
PRODID:-//LE NIDO 山中湖 富士山ビューグランピング - ECPv6.15.20//NONSGML v1.0//EN
CALSCALE:GREGORIAN
METHOD:PUBLISH
X-ORIGINAL-URL:https://le-nido.com
X-WR-CALDESC:LE NIDO 山中湖 富士山ビューグランピング のイベント
REFRESH-INTERVAL;VALUE=DURATION:PT1H
X-Robots-Tag:noindex
X-PUBLISHED-TTL:PT1H
BEGIN:VTIMEZONE
TZID:Asia/Tokyo
BEGIN:STANDARD
TZOFFSETFROM:+0900
TZOFFSETTO:+0900
TZNAME:JST
DTSTART:20250101T000000
END:STANDARD
END:VTIMEZONE
BEGIN:VEVENT
DTSTART;VALUE=DATE:20260801
DTEND;VALUE=DATE:20260802
DTSTAMP:20260423T105941
CREATED:20260302T075808Z
LAST-MODIFIED:20260302T075808Z
UID:1251-1785542400-1785628799@le-nido.com
SUMMARY:第93回報湖祭2026
DESCRIPTION:大正時代から続く伝統的イベント「山中湖報湖祭」毎夏8月1日開催\n  \n\n\n山梨県南都留郡山中湖村で毎年8月1日に行われる「報湖祭（ほうこさい）」は、大正時代から続く由緒ある伝統行事です。殉職者への慰霊と湖の恵みへの感謝を捧げるために始まった祭りで、神事と花火大会から成る厳かな夏の行事として親しまれてきました。 \n報湖祭の花火大会は、文豪・徳富蘇峰（とくとみ そほう）が名付けた「富士五湖花火大会」のトップを飾るイベントとしても有名です。山中地区では山中湖湖畔、平野地区では山中湖みさきから花火が打ち上げられ、湖面に映る色鮮やかな光と富士山のシルエットが織りなす絶景は、この日だけの特別な風景です。 \n富士五湖エリアで最初に行われる花火大会として、夏の訪れを告げる報湖祭。湖上に響く花火の音と澄んだ夜空に広がる大輪の花が、訪れる人々を幻想的な世界へと誘います。 \n\n■開催概要 \n  \n\n\n\n大会名\n山中湖報湖祭\n\n\n開催日\n2026年8月1日（土）\n\n\n会場\n山中湖畔\n\n\n打上時間\n20時から45分間\n※予定\n\n\n打上会場\n山中地区：山中湖畔、平野地区：山中湖みさき\n\n\n打上数\n約1万発\n\n\n\n入場料・有料席\n無料・有料席なし\n\n\n駐車場\n無料駐車場：1\,100円、有料駐車場あり：1日300円\n\n\nアクセス\n＜お車でお越しの場合＞\n東富士五湖道山中湖ICから約5分\n＜電車でお越しの場合＞\n富士急行富士山駅からバスで約30分、富士山・山中湖停留所下車すぐ\n＜バスでお越しの場合＞\nJR御殿場駅からバスで約40分、旭日丘森の駅停留所下車すぐ\n\n\n駐車場\n無料駐車場：1\,100円、有料駐車場あり：1日300円\n\n\n\n  \n2026年の開催情報、各種詳細情報は未定。
URL:https://le-nido.com/event/2026-hokosai/
END:VEVENT
END:VCALENDAR