BEGIN:VCALENDAR
VERSION:2.0
PRODID:-//LE NIDO 山中湖 富士山ビューグランピング - ECPv6.15.20//NONSGML v1.0//EN
CALSCALE:GREGORIAN
METHOD:PUBLISH
X-ORIGINAL-URL:https://le-nido.com
X-WR-CALDESC:LE NIDO 山中湖 富士山ビューグランピング のイベント
REFRESH-INTERVAL;VALUE=DURATION:PT1H
X-Robots-Tag:noindex
X-PUBLISHED-TTL:PT1H
BEGIN:VTIMEZONE
TZID:Asia/Tokyo
BEGIN:STANDARD
TZOFFSETFROM:+0900
TZOFFSETTO:+0900
TZNAME:JST
DTSTART:20250101T000000
END:STANDARD
END:VTIMEZONE
BEGIN:VEVENT
DTSTART;VALUE=DATE:20260712
DTEND;VALUE=DATE:20260713
DTSTAMP:20260423T110703
CREATED:20260302T071143Z
LAST-MODIFIED:20260302T071143Z
UID:1243-1783814400-1783900799@le-nido.com
SUMMARY:第８回 山中湖あおぞらマラソン＆ウォーク
DESCRIPTION:2026年7月12日に開催決定！第８回山中湖あおぞらマラソン＆ウォーク\n  \n富士山をすぐそばに感じながら、走る・歩く。富士山の一番近くの「山中湖」で魅力的なアクティブイベントに参加しませんか？山中湖あおぞらマラソン＆ウォークは2026年7月12日（日）に開催が決定しました。 \n  \n■開催概要 \n\n\n\n大会名\n第８回 山中湖あおぞらマラソン＆ウォーク\n\n\n開催日\n2026年7月12日（日）\n\n\n会場\n山中湖交流プラザきらら\n\n\nコース\n○基本コース：山中湖1周13.5km\n＜種目：マラソン＞\n　○山中湖2周マラソン男女：約27km\n　○山中湖1周マラソン男女：約13.5km\n＜種目：ウォーキング＞\n　○チャレンジ山中湖1周ウォーク：約13.5km\n\n\n参加料\n＜マラソン＞\n　○山中湖2周マラソン男女：1名につき5\,500円（税込み）\n　○山中湖1周マラソン男女：1名につき5\,500円（税込み）\n＜種目：ウォーキング＞\n　○チャレンジ山中湖1周ウォーク：18歳以上の場合、1名につき4\,400円（税込み）\n　○チャレンジ山中湖1周ウォーク：中学生～18歳未満、1名につき2\,970円（税込み）\n\n\nエントリー\nwebエントリーまたはFAX申込：2025年6月22日（日）エントリー締め切り\n※定員の場合、予告なく締め切りとなります。\n\n\nアクセス\n東富士五湖道路山中湖I.C.より20分\n富士急バス「交流プラザきらら」下車後、徒歩3分\n\n\n駐車場\n選手専用無料駐車場あり
URL:https://le-nido.com/event/2026-aozorarun/
LOCATION:交流プラザきらら\, 山梨県南都留郡山中湖村平野479-2\, Japan
END:VEVENT
END:VCALENDAR