BEGIN:VCALENDAR
VERSION:2.0
PRODID:-//LE NIDO 山中湖 富士山ビューグランピング - ECPv6.15.20//NONSGML v1.0//EN
CALSCALE:GREGORIAN
METHOD:PUBLISH
X-WR-CALNAME:LE NIDO 山中湖 富士山ビューグランピング
X-ORIGINAL-URL:https://le-nido.com
X-WR-CALDESC:LE NIDO 山中湖 富士山ビューグランピング のイベント
REFRESH-INTERVAL;VALUE=DURATION:PT1H
X-Robots-Tag:noindex
X-PUBLISHED-TTL:PT1H
BEGIN:VTIMEZONE
TZID:Asia/Tokyo
BEGIN:STANDARD
TZOFFSETFROM:+0900
TZOFFSETTO:+0900
TZNAME:JST
DTSTART:20250101T000000
END:STANDARD
END:VTIMEZONE
BEGIN:VEVENT
DTSTART;VALUE=DATE:20260421
DTEND;VALUE=DATE:20260511
DTSTAMP:20260423T080142
CREATED:20260302T054623Z
LAST-MODIFIED:20260302T054623Z
UID:1215-1776729600-1778457599@le-nido.com
SUMMARY:春の息吹　山中湖　花の都公園
DESCRIPTION:山中湖 花の都公園「春の息吹」\n  \n山中湖「花の都公園」では、例年4月下旬から5月上旬までイベント「春の息吹」を開催。\nイベント期間中は、チューリップ、菜の花、ネモフィラといった春を感じる季節の花達が見頃を迎えます。 \n  \n◆施設情報 \n\n\n\n営業時間\n8:30~17:30\n\n\n入場料金\n大人：600円、小中学生：240円、障害者（大人）：360円、障害者（小中学生）：150円、団体（大人）：480円、団体（小中学生）：180円\n\n\n開催場所\n〒401-0501 山梨県南都留郡山中湖村山中１６５０\n\n\n\nアクセス\n<お車でお越しの場合＞ \n\n山中湖ICから5分\n\n東名高速道路・御殿場IC～東富士五湖道路経由富士吉田IC下車15分\n\n\n\n東名高速道路・富士IC/新東名高速道路・新富士IC～国道139号経由約90分 \n\n\n\n＜バス/電車でお越しの場合＞ \n\n東京駅八重洲口から高速バスで約148分\nJR新宿駅から電車で約170分\n\n\n\n\n駐車料金\n乗用車：300円、バス：1\,000円\n\n\n\n  \n2026年のイベント開催期間は未定。
URL:https://le-nido.com/event/2026-harunoibuki/
END:VEVENT
END:VCALENDAR