BEGIN:VCALENDAR
VERSION:2.0
PRODID:-//LE NIDO 山中湖 富士山ビューグランピング - ECPv6.15.20//NONSGML v1.0//EN
CALSCALE:GREGORIAN
METHOD:PUBLISH
X-WR-CALNAME:LE NIDO 山中湖 富士山ビューグランピング
X-ORIGINAL-URL:https://le-nido.com
X-WR-CALDESC:LE NIDO 山中湖 富士山ビューグランピング のイベント
REFRESH-INTERVAL;VALUE=DURATION:PT1H
X-Robots-Tag:noindex
X-PUBLISHED-TTL:PT1H
BEGIN:VTIMEZONE
TZID:Asia/Tokyo
BEGIN:STANDARD
TZOFFSETFROM:+0900
TZOFFSETTO:+0900
TZNAME:JST
DTSTART:20250101T000000
END:STANDARD
END:VTIMEZONE
BEGIN:VEVENT
DTSTART;VALUE=DATE:20260328
DTEND;VALUE=DATE:20260413
DTSTAMP:20260423T080051
CREATED:20260217T072453Z
LAST-MODIFIED:20260304T074210Z
UID:835-1774656000-1776038399@le-nido.com
SUMMARY:富士・河口湖さくら祭り
DESCRIPTION:2026年第15回「富士・河口湖さくら祭り」\n  \n富士山と湖、そして桜の名所として知られる河口湖北岸エリア（河口湖円形ホール周辺）を中心に、今年も「富士・河口湖さくら祭り」が開催されます。期間中はクラフト市も同時に開かれ、多彩な催しを楽しめます。\n\n \n\n■開催概要\n\n\n\n\n開催期間\n2026年3月28日(土)～4月12日（日）\n\n\n開催時間\n\n\n開場時間：1０時～17時\n点灯：日没～21時\n\n\n\n\n開催場所\n河口湖北岸ウォーキングトレイル\n\n\n\nアクセス\n<お車でお越しの場合＞ \n\n中央自動車道・河口湖ICより１0分\n\n東名高速道路・御殿場IC～東富士五湖道路経由富士吉田IC下車15分\n\n\n\n東名高速道路・富士IC/新東名高速道路・新富士IC～国道139号経由約90分 \n\n\n\n＜バス/電車でお越しの場合＞ \n\n河口湖駅より「河口湖周遊バス」乗車20分、猿まわし劇場木の花美術館前で下車。\n\n\n\n\n入場料・入館料\n無料\n\n\n駐車場\n期間中特設駐車場あり（無料）\n\n\n\n\n同時開催の「クラフト市」は、さくら祭りメイン会場付近で午前10時～午後5時まで開催します。\n曜日により異なりますが、最大30店出店予定となっていますのでぜひ一緒にお楽しみください。\n\n\n富士・河口湖さくら祭りを楽しんだあとは、ル・ニドで大自然の中のグランピング体験がおすすめです。 \n\nタイ語で読む場合はこちら\n英語で読む場合はこちら\n中国語（繁体字）で読む場合はこちら\n中国語（簡体字）で読む場合はこちら\nベトナム語で富む場合はこちら
URL:https://le-nido.com/event/2026-fujikawaguchiko-festival/
LOCATION:河口湖北岸ウォーキングトレイル
END:VEVENT
END:VCALENDAR