BEGIN:VCALENDAR
VERSION:2.0
PRODID:-//LE NIDO 山中湖 富士山ビューグランピング - ECPv6.15.20//NONSGML v1.0//EN
CALSCALE:GREGORIAN
METHOD:PUBLISH
X-WR-CALNAME:LE NIDO 山中湖 富士山ビューグランピング
X-ORIGINAL-URL:https://le-nido.com
X-WR-CALDESC:LE NIDO 山中湖 富士山ビューグランピング のイベント
REFRESH-INTERVAL;VALUE=DURATION:PT1H
X-Robots-Tag:noindex
X-PUBLISHED-TTL:PT1H
BEGIN:VTIMEZONE
TZID:Asia/Tokyo
BEGIN:STANDARD
TZOFFSETFROM:+0900
TZOFFSETTO:+0900
TZNAME:JST
DTSTART:20250101T000000
END:STANDARD
END:VTIMEZONE
BEGIN:VEVENT
DTSTART;VALUE=DATE:20260227
DTEND;VALUE=DATE:20260228
DTSTAMP:20260423T080143
CREATED:20260218T065937Z
LAST-MODIFIED:20260218T070013Z
UID:874-1772150400-1772236799@le-nido.com
SUMMARY:エクシブ山中湖 打上花火 2月27日(金)
DESCRIPTION:エクシブ山中湖では、定期的に敷地内からプライベート花火を打ち上げています。\n最大直径130ｍの4号玉は、迫力満点で、2月27日の開催は19時15分からの打ち上げ予定です。 \n  \n■開催概要 \n  \n\n\n\n会場\nエクシブ山中湖\n\n\n開催時間\n【4~6月】19：15～\n【7月】19:30～\n【9~3月】19：15～\n\n\n打上時間\n2分30秒\n\n\n開催予定\n■ 2026年1月（19:15）\n14日（水）※開催済\n28日（水）※開催済\n■ 2026年2月（19:15）\n13日（金）※開催済\n23日（祝・月）\n27日（金）\n■ 2026年3月（19:15）\n13日（金）\n27日（金）\n■ 2026年4月（19:15）\n14日（火）\n28日（火）\n■ 2026年5月（19:15）\n14日（木）\n28日（木）\n■ 2026年6月（19:15）\n14日（日）\n28日（日）\n■ 2026年7月（19:30）\n14日（火）\n28日（火）\n■ 2026年9月（19:15）\n14日（月）\n28日（月）\n■ 2026年10月（19:15）\n14日（水）\n28日（水）\n31日（土）\n■ 2026年11月（19:15）\n13日（金）\n27日（金）\n■ 2026年12月（19:15）\n14日（月）\n\n\n\n 
URL:https://le-nido.com/event/20260227-ekushibu-yamanakako/
END:VEVENT
END:VCALENDAR