BEGIN:VCALENDAR
VERSION:2.0
PRODID:-//LE NIDO 山中湖 富士山ビューグランピング - ECPv6.15.20//NONSGML v1.0//EN
CALSCALE:GREGORIAN
METHOD:PUBLISH
X-ORIGINAL-URL:https://le-nido.com
X-WR-CALDESC:LE NIDO 山中湖 富士山ビューグランピング のイベント
REFRESH-INTERVAL;VALUE=DURATION:PT1H
X-Robots-Tag:noindex
X-PUBLISHED-TTL:PT1H
BEGIN:VTIMEZONE
TZID:Asia/Tokyo
BEGIN:STANDARD
TZOFFSETFROM:+0900
TZOFFSETTO:+0900
TZNAME:JST
DTSTART:20250101T000000
END:STANDARD
END:VTIMEZONE
BEGIN:VEVENT
DTSTART;VALUE=DATE:20260222
DTEND;VALUE=DATE:20260223
DTSTAMP:20260423T092444
CREATED:20260213T075018Z
LAST-MODIFIED:20260213T075132Z
UID:557-1771718400-1771804799@le-nido.com
SUMMARY:やまなかこスカイランタンフェスティバル2026
DESCRIPTION:2月22日山中湖アイスキャンドルフェスティバルと同時開催！「やまなかこスカイランタンフェスティバル2026」で冬の夜空へ願いを込めよう！\n  \n今年も、1日限定の大人気イベント「やまなかこスカイランタンフェスティバル2026」 が開催されます。願いを込めたスカイランタン600基を打ち上げてみませんか？ \n\n\n冬の澄んだ空気の中、山中湖の夜空へ無数のランタンがふわりと浮かび上がる光景は、思わず息をのむほど幻想的です。 \n\n  \n\n   \n\n\n\n\n\n\n\n\n\n\nこの投稿をInstagramで見る\n\n\n\n\n\n\n\n\n\n\n\n\n\n\n\n\n\n\n\n\n\n\n \n日本スカイランタン協会®【公式】🌟(@skylanternassociation)がシェアした投稿 \n\n\n\n■開催概要 \n\n  \n\n\n\n\n開催期間\n2026年2月22日(日)\n\n\n開催時間\n\n\n当日販売：14時\n受付：16時30分\n打ち上げ：18時\n花火：18時30分\n完全閉場：20時\n\n※スケジュールは予告なく変更となる可能性がございます。\n\n\n開催場所\n山中湖交流プラザきらら ひびき\n\n\n住所\n〒401-0502　山梨県南都留郡山中湖村平野479-2\n\n\n電話番号\n0555-65-7070(平野旅館民宿組合)\n\n\nアクセス\n東富士五湖道路山中湖I.C.より20分\n富士急バス「交流プラザきらら」下車後、徒歩3分\n\n\n入場料・入館料\n1基5\,000円\n※1グループ：1～4人目安\n※4面に文字や絵を描くことが可能です。\n\n\n駐車場\n有料（現金のみ）\n一般車2\,000円\n\n\n備考\nランタンには紐がついており、飛ばした後はお持ち帰りいただけます。
URL:https://le-nido.com/event/2026-rantanfestival/
LOCATION:山中湖交流プラザきらら ひびき\, 山梨県\, 南都留郡山中湖村平野479-2\, 401-0502\, Japan
END:VEVENT
BEGIN:VEVENT
DTSTART;VALUE=DATE:20260222
DTEND;VALUE=DATE:20260223
DTSTAMP:20260423T092444
CREATED:20260213T063916Z
LAST-MODIFIED:20260213T072802Z
UID:537-1771718400-1771804799@le-nido.com
SUMMARY:山中湖アイスキャンドルフェスティバル
DESCRIPTION:山中湖の冬を彩る一大イベント「アイスキャンドルフェスティバル」が、2026年2月22日（日）に開催されます！\n  \n夕暮れ時、氷で作られた無数のキャンドルに火が灯り、富士山を背景に夜空を舞うスカイランタンと打ち上げ花火。寒さを忘れるほど幻想的な、この日限りの光景をぜひ体感してください。会場では温かいグルメの出店も多数予定されています。 \n  \n\n\n  \n\n\n\n\n\n\n\n\n\n\nこの投稿をInstagramで見る\n\n\n\n\n\n\n\n\n\n\n\n\n\n\n\n\n\n\n\n\n\n\n  \n🐳山中湖観光協会イベント情報🐳(@yamanakako_event)がシェアした投稿 \n\n\n \n■点灯について \n当日、チャッカマンの持参でキャンドルの点灯にご参加可能です。点灯は16:30頃からとなっております。\n※当日、観光協会でチャッカマンの数量限定販売予定ですが、数に限りがあるため持参をおすすめいたします。 \n  \n■開催概要 \n  \n\n\n\n開催期間\n2026年2月22日(日)\n\n\n開催時間\n\n\n開場：16時\n点灯：16時30分\nスカイランタン：18時（受付 16時）\n花火：18時30分\n完全閉場：20時\n\n※スケジュールは予告なく変更となる可能性がございます。\n\n\n開催場所\n交流プラザきらら　原っぱ\n\n\n住所\n〒401-0502　山梨県南都留郡山中湖村平野479-2\n\n\n電話番号\n0555-62-3100（一般社団法人山中湖観光協会）\n\n\nアクセス\n東富士五湖道路山中湖I.C.より20分\n富士急バス「交流プラザきらら」下車後、徒歩3分\n\n\n入場料・入館料\n無料\n\n\n駐車場\n有料（現金のみ）\n※混雑緩和のため「お釣りのないよう」事前に小銭等のご準備をお願い申し上げます。\n一般車2\,000円／大型バス5\,000円（中型、マイクロ含む） \n・一般車両： 「臨時駐車場」または「第1駐車場」をご利用ください。 \n・車椅子の方： 第1駐車場に専用スペース（10台分）をご用意しています。数に限りがあるため、予めご了承ください。 \n・大型バス： 駐車場は「臨時駐車場」となります。事前予約がない場合はお断りする可能性がございますので、必ず事前にご確認ください。 \n\n\n\n\n  \n■当日の撮影について \n\n脚立・三脚（二脚・一脚含む）の会場内への持ち込み・使用一切禁止となっております。\n場所取り行為など、他の方のご迷惑にならないようにご配慮お願いいたします。\n立ち入り禁止エリアでの撮影はご遠慮願います。\nドローンによる撮影はご遠慮ください。\n\n  \n■当日の注意事項 \n\n駐車場は即満員になる可能性がありますので、早めの来場をおすすめいたします。\n会場はぬかるみ、大変冷え込むことが予想されます。雪が残っていることも考えられますので、長靴やスノーブーツでのご来場を推奨いたします。\n周辺道路への路上駐車は、近隣の方のご迷惑となるためご遠慮ください。\n花火の打ち上げにより、一部立ち入り禁止エリアがあります。
URL:https://le-nido.com/event/2026-icecandlesfestival/
LOCATION:交流プラザきらら\, 山梨県南都留郡山中湖村平野479-2\, Japan
END:VEVENT
END:VCALENDAR