BEGIN:VCALENDAR
VERSION:2.0
PRODID:-//LE NIDO 山中湖 富士山ビューグランピング - ECPv6.15.20//NONSGML v1.0//EN
CALSCALE:GREGORIAN
METHOD:PUBLISH
X-ORIGINAL-URL:https://le-nido.com
X-WR-CALDESC:LE NIDO 山中湖 富士山ビューグランピング のイベント
REFRESH-INTERVAL;VALUE=DURATION:PT1H
X-Robots-Tag:noindex
X-PUBLISHED-TTL:PT1H
BEGIN:VTIMEZONE
TZID:Asia/Tokyo
BEGIN:STANDARD
TZOFFSETFROM:+0900
TZOFFSETTO:+0900
TZNAME:JST
DTSTART:20250101T000000
END:STANDARD
END:VTIMEZONE
BEGIN:VEVENT
DTSTART;VALUE=DATE:20260421
DTEND;VALUE=DATE:20260511
DTSTAMP:20260423T045623
CREATED:20260302T054623Z
LAST-MODIFIED:20260302T054623Z
UID:1215-1776729600-1778457599@le-nido.com
SUMMARY:春の息吹　山中湖　花の都公園
DESCRIPTION:山中湖 花の都公園「春の息吹」\n  \n山中湖「花の都公園」では、例年4月下旬から5月上旬までイベント「春の息吹」を開催。\nイベント期間中は、チューリップ、菜の花、ネモフィラといった春を感じる季節の花達が見頃を迎えます。 \n  \n◆施設情報 \n\n\n\n営業時間\n8:30~17:30\n\n\n入場料金\n大人：600円、小中学生：240円、障害者（大人）：360円、障害者（小中学生）：150円、団体（大人）：480円、団体（小中学生）：180円\n\n\n開催場所\n〒401-0501 山梨県南都留郡山中湖村山中１６５０\n\n\n\nアクセス\n<お車でお越しの場合＞ \n\n山中湖ICから5分\n\n東名高速道路・御殿場IC～東富士五湖道路経由富士吉田IC下車15分\n\n\n\n東名高速道路・富士IC/新東名高速道路・新富士IC～国道139号経由約90分 \n\n\n\n＜バス/電車でお越しの場合＞ \n\n東京駅八重洲口から高速バスで約148分\nJR新宿駅から電車で約170分\n\n\n\n\n駐車料金\n乗用車：300円、バス：1\,000円\n\n\n\n  \n2026年のイベント開催期間は未定。
URL:https://le-nido.com/event/2026-harunoibuki/
END:VEVENT
BEGIN:VEVENT
DTSTART;VALUE=DATE:20260425
DTEND;VALUE=DATE:20260426
DTSTAMP:20260423T045623
CREATED:20260218T063025Z
LAST-MODIFIED:20260218T063148Z
UID:860-1777075200-1777161599@le-nido.com
SUMMARY:The 絶景花火 「Mt. Fuji」 2026～日本の極み古今無双～
DESCRIPTION:最上級の花火を貼るの富士山と桜と共に。富士山の敷地内で行われる花火大会「The 絶景花火 「Mt. Fuji」 2026～日本の極み古今無双～」\n  \n今年の絶景花火は2026年4月25日に開催。日本を代表する花火師と花火社のBIG5が届ける唯一無二の特別な景色を是非会場で。 \n  \n\n\n  \n\n\n\n\n\n\n\n\n\n\nこの投稿をInstagramで見る\n\n\n\n\n\n\n\n\n\n\n\n\n\n\n\n\n\n\n\n\n\n\n  \n絶景花火(@the_zekkeihanabi)がシェアした投稿 \n\n\n \n  \n■開催概要 \n  \n  \n\n\n\n開催期間\n2026年4月25日(土)\n\n\n開催時間\n（駐車場オープン）15:00予定\n（会場）16:00\n（開演）18:30予定\n\n\n開催場所\nふじてんリゾート特設会場\n\n\n住所\n〒401-0320  山梨県南都留郡鳴沢村字富士山８５４５−１\n\n\nアクセス\n＜お車でお越しの場合＞\nいずれも約90分\n・新宿～大月JCT～河口湖IC\n・横浜～御殿場IC～須走IC～富士吉田IC\n・横浜～海老名JCT～八王子JCT～大月JCT～河口湖IC\n・静岡～富士IC～本栖湖\n・新静岡～新富士IC～本栖湖 \n＜電車/高速バスでお越しの場合＞\n・大月～河口湖駅～ふじてん\n・新宿～河口湖駅～ふじてん\n\n\n駐車場\nパーキングチケット：車１台につき5\,000円\n\n\n観覧料\n有料\n※席種は公式ホームページを参照ください。\n\n\nその他\n当日はフードキッチンカーが出店予定です。\n\n\n\n  \n花火を楽しんだ後は、会場から車で約30分のル・ニド山中湖でグランピングを体験しませんか？\nル・ニド山中湖は、山中湖近くのグランピング施設で自然に囲まれながら富士山を楽しむことができます。\n絶景花火と共にル・ニド山中湖で最高の想い出を作ってみてはいかがでしょうか。
URL:https://le-nido.com/event/2026-the-zekkeihanabi/
LOCATION:ふじてんスノーリゾート\, 山梨県\, 南都留郡鳴沢村字富士山８５４５−１\, 〒401-0320\, Japan
END:VEVENT
BEGIN:VEVENT
DTSTART;VALUE=DATE:20260428
DTEND;VALUE=DATE:20260429
DTSTAMP:20260423T045623
CREATED:20260218T070633Z
LAST-MODIFIED:20260218T070633Z
UID:882-1777334400-1777420799@le-nido.com
SUMMARY:エクシブ山中湖 打上花火 4月28日(火)
DESCRIPTION:エクシブ山中湖では、定期的に敷地内からプライベート花火を打ち上げています。\n最大直径130ｍの4号玉は、迫力満点で、4月28日の開催は19時15分からの打ち上げ予定です。 \n  \n■開催概要 \n  \n\n\n\n会場\nエクシブ山中湖\n\n\n開催時間\n【4~6月】19：15～\n【7月】19:30～\n【9~3月】19：15～\n\n\n打上時間\n2分30秒\n\n\n開催予定\n■ 2026年1月（19:15）\n14日（水）※開催済\n28日（水）※開催済\n■ 2026年2月（19:15）\n13日（金）※開催済\n23日（祝・月）\n27日（金）\n■ 2026年3月（19:15）\n13日（金）\n27日（金）\n■ 2026年4月（19:15）\n14日（火）\n28日（火）\n■ 2026年5月（19:15）\n14日（木）\n28日（木）\n■ 2026年6月（19:15）\n14日（日）\n28日（日）\n■ 2026年7月（19:30）\n14日（火）\n28日（火）\n■ 2026年9月（19:15）\n14日（月）\n28日（月）\n■ 2026年10月（19:15）\n14日（水）\n28日（水）\n31日（土）\n■ 2026年11月（19:15）\n13日（金）\n27日（金）\n■ 2026年12月（19:15）\n14日（月）\n\n\n\n 
URL:https://le-nido.com/event/20260428-ekushibu-yamanakako/
END:VEVENT
END:VCALENDAR