BEGIN:VCALENDAR
VERSION:2.0
PRODID:-//LE NIDO 山中湖 富士山ビューグランピング - ECPv6.15.20//NONSGML v1.0//EN
CALSCALE:GREGORIAN
METHOD:PUBLISH
X-ORIGINAL-URL:https://le-nido.com
X-WR-CALDESC:LE NIDO 山中湖 富士山ビューグランピング のイベント
REFRESH-INTERVAL;VALUE=DURATION:PT1H
X-Robots-Tag:noindex
X-PUBLISHED-TTL:PT1H
BEGIN:VTIMEZONE
TZID:Asia/Tokyo
BEGIN:STANDARD
TZOFFSETFROM:+0900
TZOFFSETTO:+0900
TZNAME:JST
DTSTART:20260101T000000
END:STANDARD
END:VTIMEZONE
BEGIN:VEVENT
DTSTART;VALUE=DATE:20270220
DTEND;VALUE=DATE:20270221
DTSTAMP:20260423T194726
CREATED:20260303T064005Z
LAST-MODIFIED:20260303T064005Z
UID:1291-1803081600-1803167999@le-nido.com
SUMMARY:山中湖アイスキャンドルフェスティバル＆スカイランタンフェスティバル
DESCRIPTION:1日限りの光の祭典！「山中湖アイスキャンドルフェスティバル」「スカイランタンフェスティバル」\n  \n\n山中湖アイスキャンドルフェスティバルは山中湖で行われる冬の一大イベントです。\n同時開催のスカイランタンフェスティバルと共に打ちあがる花火は毎年好評です。\n2027年の開催情報は未定のため、情報が解禁され次第更新いたします。 \n\n\n\n  \n\n\n\n\n\n\n\n\n\n\nこの投稿をInstagramで見る\n\n\n\n\n\n\n\n\n\n\n\n\n\n\n\n\n\n\n\n\n\n\n  \n🐳山中湖観光協会イベント情報🐳(@yamanakako_event)がシェアした投稿 \n\n\n\n■開催概要 \n\nこちらは2026年度の内容となります。\n現時点でイベント情報詳細は未定です。情報が入り次第更新いたします。 \n  \n\n\n\n日時\n未定\n※2026年は2月22日（日）に開催\n\n\n入場券\n\n\n開場：16:00\n点灯：16:30\nスカイランタン：18:00（受付 16:00）\n花火：18:30\n完全閉場：20:00\n\n※スケジュールは予告なく変更となる可能性がございます。\n\n\n会場\n交流プラザきらら　原っぱ\n山梨県南都留郡山中湖村平野479-2\n\n\n駐車場\n一般車2\,000円/大型バス5\,000円\n\n\nアクセス\n<車＞東富士五湖道路山中湖I.C.より20分\n＜公共機関＞富士急バス「交流プラザきらら」下車後、徒歩3分\n\n\n\n 
URL:https://le-nido.com/event/2027-icecandlesfestival/
LOCATION:交流プラザきらら\, 山梨県南都留郡山中湖村平野479-2\, Japan
END:VEVENT
END:VCALENDAR