BEGIN:VCALENDAR
VERSION:2.0
PRODID:-//LE NIDO 山中湖 富士山ビューグランピング - ECPv6.15.20//NONSGML v1.0//EN
CALSCALE:GREGORIAN
METHOD:PUBLISH
X-ORIGINAL-URL:https://le-nido.com
X-WR-CALDESC:LE NIDO 山中湖 富士山ビューグランピング のイベント
REFRESH-INTERVAL;VALUE=DURATION:PT1H
X-Robots-Tag:noindex
X-PUBLISHED-TTL:PT1H
BEGIN:VTIMEZONE
TZID:Asia/Tokyo
BEGIN:STANDARD
TZOFFSETFROM:+0900
TZOFFSETTO:+0900
TZNAME:JST
DTSTART:20250101T000000
END:STANDARD
END:VTIMEZONE
BEGIN:VEVENT
DTSTART;VALUE=DATE:20261031
DTEND;VALUE=DATE:20261102
DTSTAMP:20260423T152630
CREATED:20260303T061722Z
LAST-MODIFIED:20260325T075829Z
UID:1286-1793404800-1793577599@le-nido.com
SUMMARY:山中湖夕焼けの渚 紅葉まつり
DESCRIPTION:日本の渚百選の絶景スポット「夕焼けの渚」を堪能！「夕焼けの渚・紅葉まつり」\n  \n\n山中湖旭日丘湖畔緑地公園にて開催される「夕焼けの渚・紅葉祭り」は、大人気の紅葉イベントです。\nイベント期間中は、1\,000ｍにわたる紅葉回廊をライトアップされた幻想的な風景の中でお楽しみいただけます。\n2026年の開催日時は2026年10月30日から11月1日までとなっています。 \n\n \n  \n■開催概要 \n  \n\n\n\n日時\n2026年10月30日（金）夕方～11月1日（日）夜　予定\n(ライトアップ)16:30~20:30まで\n\n\n会場\n旭日丘湖畔緑地公園\n山梨県南都留郡山中湖村平野５０６−２９６\n\n\n\n 
URL:https://le-nido.com/event/2026-koyofes/
END:VEVENT
BEGIN:VEVENT
DTSTART;VALUE=DATE:20261101
DTEND;VALUE=DATE:20261102
DTSTAMP:20260423T152630
CREATED:20260302T055843Z
LAST-MODIFIED:20260302T063504Z
UID:1217-1793491200-1793577599@le-nido.com
SUMMARY:ルノー カングー ジャンボリー2026
DESCRIPTION:世界最大！ルノーカングージャンボリー2026　開催決定！\n  \n「ルノーカングージャンボリー」18回目の開催は2026年11月1日（日）に開催決定！\nルノー・ジャポンが開催する本イベントは累計入場台数が2万台を超えた世界最大のファンミーティングイベント。\n2025年は5月10日に催されたが、2026年は例年通り秋ごろに開催される。 \n  \n\n\n  \n\n\n\n\n\n\n\n\n\n\nこの投稿をInstagramで見る\n\n\n\n\n\n\n\n\n\n\n\n\n\n\n\n\n\n\n\n\n\n\n  \nルノー・ジャポン(@renault_japon)がシェアした投稿 \n\n\n \n■開催概要\n\n\n\n開催日時\n2026年11月1日(日)\n\n\n会場\n山中湖交流プラザ「きらら」\n〒401-0502 山梨県南都留郡山中湖村平野479-2\n\n\n\n  \nイベント内容は現時点で未定。順次公式ウェブサイトにて発表されます。 \n 
URL:https://le-nido.com/event/2026-jamporee/
LOCATION:交流プラザきらら\, 山梨県南都留郡山中湖村平野479-2\, Japan
END:VEVENT
END:VCALENDAR