BEGIN:VCALENDAR
VERSION:2.0
PRODID:-//LE NIDO 山中湖 富士山ビューグランピング - ECPv6.15.20//NONSGML v1.0//EN
CALSCALE:GREGORIAN
METHOD:PUBLISH
X-WR-CALNAME:LE NIDO 山中湖 富士山ビューグランピング
X-ORIGINAL-URL:https://le-nido.com
X-WR-CALDESC:LE NIDO 山中湖 富士山ビューグランピング のイベント
REFRESH-INTERVAL;VALUE=DURATION:PT1H
X-Robots-Tag:noindex
X-PUBLISHED-TTL:PT1H
BEGIN:VTIMEZONE
TZID:Asia/Tokyo
BEGIN:STANDARD
TZOFFSETFROM:+0900
TZOFFSETTO:+0900
TZNAME:JST
DTSTART:20250101T000000
END:STANDARD
END:VTIMEZONE
BEGIN:VEVENT
DTSTART;VALUE=DATE:20260904
DTEND;VALUE=DATE:20260907
DTSTAMP:20260423T123701
CREATED:20260303T054520Z
LAST-MODIFIED:20260303T054520Z
UID:1278-1788480000-1788739199@le-nido.com
SUMMARY:山中諏訪神社 山中明神例大祭 安産祭り
DESCRIPTION:子授け・安産の御利益がある！？山中諏訪神社「安産祭り」\n  \n\n山中諏訪神社で毎年9月4日～6日にかけて行われる「安産祭り」は、古くから関東屈指の子授け・安産の御利益があると言われています。 \n\n \n■開催概要 \n  \nこちらは2025年度の内容となります。\n現時点でイベント情報詳細は未定です。情報が入り次第更新いたします。 \n  \n\n\n\n日時\n2026年9月4日（金）～6日（日）\n\n\nスケジュール\n9月4日：宵祭り\n9月5日：本祭り\n9月6日：後祭り\n\n\n会場\n山中諏訪神社（山梨県南都留郡山中湖村山中１３）\n\n\n駐車場\n神社下駐車場または湖畔無料駐車場をご利用ください。\n\n\nアクセス\n＜お車でお越しの場合＞\n東富士五湖道山中湖ICから約5分\n＜高速バスでお越しの場合＞\nホテルマウント富士入り口バス停から徒歩で徒歩10分\n＜電車でお越しの場合＞\n富士山駅から平野行バスにて約35分、ホテルマウント富士入り口バス停から徒歩10分\n\n\n\n 
URL:https://le-nido.com/event/2026-suwajinja-anzan/
LOCATION:山中諏訪神社\, 山梨県\, 南都留郡山中湖村山中13\, Japan
END:VEVENT
BEGIN:VEVENT
DTSTART;VALUE=DATE:20260926
DTEND;VALUE=DATE:20260927
DTSTAMP:20260423T123701
CREATED:20260303T060644Z
LAST-MODIFIED:20260303T060727Z
UID:1284-1790380800-1790467199@le-nido.com
SUMMARY:Mt.FUJIMAKI（マウントフジマキ）2026
DESCRIPTION:藤巻亮太主催野外音楽フェス「Mt.FUJIMAKI 2026」\n  \n\nレミオロメンの藤巻亮太が2018年から開催している野外音楽フェス「マウントフジマキ」は、例年9月下旬～10月頭に行われています。2026年の情報は現時点で確認できませんでしたが、例年通りですと山梨県山中湖交流プラザきららでの開催が予想されます。 \n2025年には、スガシカオやスキマスイッチ、吉井和哉、井ノ原快彦など豪華なアーティストが出演いたしました。今年はどんなアーティストが出演するのかワクワクですね。 \n\n\n\n  \n\n\n\n\n\n\n\n\n\n\nこの投稿をInstagramで見る\n\n\n\n\n\n\n\n\n\n\n\n\n\n\n\n\n\n\n\n\n\n\n  \nMt.FUJIMAKI 2025(@mtfujimaki)がシェアした投稿 \n\n\n\n■開催概要 \n\nこちらは2025年度の内容となります。\n現時点でイベント情報詳細は未定です。情報が入り次第更新いたします。 \n  \n\n\n\n日時\n未定※2025年は9月27日に開催\n\n\n入場券\n○プレミアムチケット：10\,800円\n○入場券：8\,800円\n○特典付きプレミアムチケット：15\,800円\n\n\n会場\n山梨県山中湖交流プラザきらら\n山梨県南都留郡山中湖村平野479-2\n\n\n駐車場\nあり（3\,500円）\n\n\nアクセス\n＜お車でお越しの場合＞\n東富士五湖道山中湖ICから約15分\n＜バスでお越しの場合＞\n富士急行富士山駅からバスで約25分\n\n\n\n 
URL:https://le-nido.com/event/2026-mtfujimaki/
END:VEVENT
END:VCALENDAR