BEGIN:VCALENDAR
VERSION:2.0
PRODID:-//LE NIDO 山中湖 富士山ビューグランピング - ECPv6.15.20//NONSGML v1.0//EN
CALSCALE:GREGORIAN
METHOD:PUBLISH
X-WR-CALNAME:LE NIDO 山中湖 富士山ビューグランピング
X-ORIGINAL-URL:https://le-nido.com
X-WR-CALDESC:LE NIDO 山中湖 富士山ビューグランピング のイベント
REFRESH-INTERVAL;VALUE=DURATION:PT1H
X-Robots-Tag:noindex
X-PUBLISHED-TTL:PT1H
BEGIN:VTIMEZONE
TZID:Asia/Tokyo
BEGIN:STANDARD
TZOFFSETFROM:+0900
TZOFFSETTO:+0900
TZNAME:JST
DTSTART:20250101T000000
END:STANDARD
END:VTIMEZONE
BEGIN:VEVENT
DTSTART;VALUE=DATE:20260607
DTEND;VALUE=DATE:20260608
DTSTAMP:20260423T080223
CREATED:20260218T041450Z
LAST-MODIFIED:20260218T041632Z
UID:847-1780790400-1780876799@le-nido.com
SUMMARY:第22回Mt.富士ヒルクライム
DESCRIPTION:世界遺産「富士山」を舞台にした日本最大級のヒルクライムレース\n「富士の国やまなし」 第22回Mt.富士ヒルクライムが今年も開催決定！\n  \n「Mt.富士ヒルクライム」は今年で22回目を迎え、標高差と参加者数ともに国内最大級規模を誇るサイクルイベントです。今年も多くのサイクリストが日本一の山を目指し、富士スバルラインを駆け上がります。 \nさらに今年は、6月5日からの3日間で楽しめる新企画「富士ヒルライドツアー」 を実施予定。\n道の駅富士吉田や山中湖明神パノラマ台など、富士北麓の名所をめぐる特別ライドが予定されています。 \n加えて、前日の 6月6日には「サイクルエキスポ」 も開催。\nレース・ツアー・エキスポの3本柱で、今年は例年以上に充実したイベントとなっています。\n \n■開催概要 \n  \n\n\n\n開催期間\n富士ヒルライドツアー：2026年6月5日(金)\nサイクルエキスポ：2026年6月6日(土)\nMt.富士ヒルクライム：2026年6月7日(日)\n\n\n開催場所\n富士北麓陸上競技場、富士北麓公園駐車場\n\n\n参加人数\n富士ヒルライドツアー：50名、Mt.富士ヒルクライム：8\,500名（予定）\n\n\n参加費\n ＜富士ヒルライドツアー＞ \n\nプランA：69\,000円\nプランB：55\,000円\n\n ＜Mt.富士ヒルクライム＞ \n\n学割（12歳以上25歳以下の学生の方）：16\,500円\n一般（15歳以上）：12\,500円\n\n\n\n\n\n  \nMt.富士ヒルクライムに参加するなら、会場までル・ニド山中湖がおすすめです。レース前は静かな個室でゆっくり休み、レース後は自然に囲まれた空間で疲れを癒しませんか？ \nMt.富士ヒルクライムを120％楽しむなら「ル・ニド山中湖」へ
URL:https://le-nido.com/event/2026-fujihc/
END:VEVENT
BEGIN:VEVENT
DTSTART;VALUE=DATE:20260607
DTEND;VALUE=DATE:20260608
DTSTAMP:20260423T080223
CREATED:20260218T052819Z
LAST-MODIFIED:20260218T053013Z
UID:855-1780790400-1780876799@le-nido.com
SUMMARY:第17回富士忍野高原トレイルレース
DESCRIPTION:富士山の麓・名水の里「山梨県忍野村」を舞台にした人気トレイルイベント「Nordisk Mountain Trail 第17回 富士忍野高原トレイルレース」が、2026年6月7日（日）に開催されます！\n  \n「第17回富士忍村高原トレイルレース」は、忍野村の田園風景、富士山の眺望、360度のパノラマが広がる杓子山など、“富士山麓ならではの絶景” がコースの魅力。毎年多くのランナーが集まる、県内屈指の人気レースです。\n\n\n\n   \n\n\n\n\n\n\n\n\n\n\nこの投稿をInstagramで見る\n\n\n\n\n\n\n\n\n\n\n\n\n\n\n\n\n\n\n\n\n\n\n \n【公式】忍野村観光協会・忍野村観光案内所　2025.1月よりリニューアル(@oshino.tourist.association)がシェアした投稿 \n\n\n\n\n\n■開催概要 \n  \n\n\n\n大会名\nNordiskMountainTrail 第17回富士忍野高原トレイルレース\n\n\n開催期間\n2026年6月7日(日)※小雨決行\n\n\n会場\n忍野中学校\n\n\nコース\n○ロングコース（約35km）\n○ミドルコース（約21.6km）\n○ショートコース(約13.2km)\n○ファミリーランコース(約4km）\n\n\nアクセス\n\n〈電車＋バス〉\n新宿からJR中央線で大月まで約90分。\n大月から富士急行線で富士山駅へ約50分。\n富士山駅から忍野村まではバスで約25分。 \n〈高速バス〉\n新宿西口から中央高速バスで忍野村まで約140分。\n\n\n\n〈車〉\n東京から東名高速 → 東富士五湖道路経由で山中湖I.C. まで約100分、\nそこから 忍野村までは車で約10分。\n東京から中央道 → 東富士五湖道路経由の場合は富士吉田忍野スマートI.C. まで約110分、忍野村まで車で約10分。 \n\n\n\n\n参加費用\n○ロングコース：7\,000円\n○ミドルコース：6\,000円\n○ショートコース：5\,000円\n○ファミリーランコース：3\,000円\n\n\n駐車場\n無料駐車場あり\n\n\n\n  \nそして、大会を楽しむなら自然に囲まれたグランピング施設「ル・ニド山中湖」がおすすめです。\n会場の忍野中学校からル・ニド山中湖へは車で10分ほどとなっており、アクセスの良さも魅力です。
URL:https://le-nido.com/event/2026-oshinotrail/
END:VEVENT
BEGIN:VEVENT
DTSTART;VALUE=DATE:20260620
DTEND;VALUE=DATE:20260621
DTSTAMP:20260423T080223
CREATED:20260302T065030Z
LAST-MODIFIED:20260302T065235Z
UID:1238-1781913600-1781999999@le-nido.com
SUMMARY:※開催日未定※第11回山中湖スーパーマラソン
DESCRIPTION:山中湖一周SUPのファンレース！山中湖SUPerマラソン\n  \n山中湖スーパーマラソン（SUPerマラソン）は、例年6月中旬ごろ行われるファンレース大会です。\n2026年で11回目の開催。スケジュールや詳細は未定です。 \n  \n■開催概要 \n※以下の情報は昨年までの情報となります。 \n\n\n\n大会名\n山中湖スーパーマラソン\n\n\n開催期間\n未定\n\n\n会場\n山中湖交流プラザ「きらら」\n\n\n競技\n○山中湖スーパーマラソン（1周約11km）\n○山中湖ショートマラソン（約3km）\n○山中湖エンジョイマラソン（約1.5km）
URL:https://le-nido.com/event/2026-supermarathon/
END:VEVENT
END:VCALENDAR