BEGIN:VCALENDAR
VERSION:2.0
PRODID:-//LE NIDO 山中湖 富士山ビューグランピング - ECPv6.15.20//NONSGML v1.0//EN
CALSCALE:GREGORIAN
METHOD:PUBLISH
X-WR-CALNAME:LE NIDO 山中湖 富士山ビューグランピング
X-ORIGINAL-URL:https://le-nido.com
X-WR-CALDESC:LE NIDO 山中湖 富士山ビューグランピング のイベント
REFRESH-INTERVAL;VALUE=DURATION:PT1H
X-Robots-Tag:noindex
X-PUBLISHED-TTL:PT1H
BEGIN:VTIMEZONE
TZID:Asia/Tokyo
BEGIN:STANDARD
TZOFFSETFROM:+0900
TZOFFSETTO:+0900
TZNAME:JST
DTSTART:20250101T000000
END:STANDARD
END:VTIMEZONE
BEGIN:VEVENT
DTSTART;VALUE=DATE:20260421
DTEND;VALUE=DATE:20260511
DTSTAMP:20260423T063533
CREATED:20260302T054623Z
LAST-MODIFIED:20260302T054623Z
UID:1215-1776729600-1778457599@le-nido.com
SUMMARY:春の息吹　山中湖　花の都公園
DESCRIPTION:山中湖 花の都公園「春の息吹」\n  \n山中湖「花の都公園」では、例年4月下旬から5月上旬までイベント「春の息吹」を開催。\nイベント期間中は、チューリップ、菜の花、ネモフィラといった春を感じる季節の花達が見頃を迎えます。 \n  \n◆施設情報 \n\n\n\n営業時間\n8:30~17:30\n\n\n入場料金\n大人：600円、小中学生：240円、障害者（大人）：360円、障害者（小中学生）：150円、団体（大人）：480円、団体（小中学生）：180円\n\n\n開催場所\n〒401-0501 山梨県南都留郡山中湖村山中１６５０\n\n\n\nアクセス\n<お車でお越しの場合＞ \n\n山中湖ICから5分\n\n東名高速道路・御殿場IC～東富士五湖道路経由富士吉田IC下車15分\n\n\n\n東名高速道路・富士IC/新東名高速道路・新富士IC～国道139号経由約90分 \n\n\n\n＜バス/電車でお越しの場合＞ \n\n東京駅八重洲口から高速バスで約148分\nJR新宿駅から電車で約170分\n\n\n\n\n駐車料金\n乗用車：300円、バス：1\,000円\n\n\n\n  \n2026年のイベント開催期間は未定。
URL:https://le-nido.com/event/2026-harunoibuki/
END:VEVENT
BEGIN:VEVENT
DTSTART;VALUE=DATE:20260510
DTEND;VALUE=DATE:20260511
DTSTAMP:20260423T063533
CREATED:20260218T044404Z
LAST-MODIFIED:20260218T044452Z
UID:852-1778371200-1778457599@le-nido.com
SUMMARY:第5回富士山麓ウイメンズトレイルラン
DESCRIPTION:富士山麓を駆ける、女性のためのトレイルランが今年も開催！\n富士山と富士の樹海、富士五湖の絶景を大満喫“富士山麓 Women’s Trail Run”\n  \n富士山のふもとで、自然と一体になって走る特別なトレイルイベント。 \n\n今年で5回目を迎える本大会は、日本では数少ない“女性限定”のトレイルランレースとして、多くのランナーに愛されてきました。 \n初心者からベテランまで笑顔で楽しめるフレンドリーな雰囲気が魅力で、\n「参加者同士の温かさが心に残る」「安心してチャレンジできる」と好評の声が寄せられています。 \n自然を感じ、仲間とつながり、富士山麓の大地を駆け抜ける——。\nあなたの一歩が、新しい挑戦と感動をつれてきます。 \n\n\n  \n\n\n\n\n\n\n\n\n\n\nこの投稿をInstagramで見る\n\n\n\n\n\n\n\n\n\n\n\n\n\n\n\n\n\n\n\n\n\n\n  \nMt.FUJI 100(@mt.fuji100)がシェアした投稿 \n\n\n\n  \n■開催概要 \n  \n\n\n\n開催日\n2026年5月10日（日）\n\n\n開催場所\n山梨県南都留郡富士河口湖町　小海公園芝生広場\n\n\n参加定員\n500名\n\n\n参加費\n6\,500円（税込み）\n※中学生：3\,000円\n\n\n種目\n約13kmトレイルラン\n\n\n参加費\n6\,500円（税込み）\n※中学生：3\,000円\n\n\nエントリー期間\n1月15日（木）～4月12日（日）\n\n\n参加資格\n大会当日中学生以上の健康な女性\n※未成年の場合、保護者の同意が必要\n\n\nアクセス\n＜公共交通機関＞\n○中央高速バス：新宿駅⇒河口湖駅（所要時間：1時間45分程度）\n○JR中央本線特急かいじ・あずさ/富士急行：新宿駅⇒河口湖駅（所要時間：2時間40分程度）\n○無料シャトルバス：富士急行線「河口湖駅」⇒会場まで\n＜車＞\n○東京IC～御殿場IC～新御殿場IC～富士吉田IC～会場（100分）\n○八王子IC～河口湖IC～会場（65分）\n○名古屋IC～御殿場IC～新御殿場IC～富士吉田IC～会場（3時間40分）\n\n\n\n  \n富士山麓ウイメンズトレイルランに参加した後は、ル・ニド山中湖で疲れを癒しませんか？\nイベント参加の拠点として、ル・ニド山中湖で心地よい山麓ステイをお楽しみください。
URL:https://le-nido.com/event/2026-womenstrailrun/
END:VEVENT
BEGIN:VEVENT
DTSTART;VALUE=DATE:20260531
DTEND;VALUE=DATE:20260601
DTSTAMP:20260423T063533
CREATED:20260213T081211Z
LAST-MODIFIED:20260213T081354Z
UID:563-1780185600-1780271999@le-nido.com
SUMMARY:第46回スポニチ山中湖ロードレース
DESCRIPTION:湖畔を巡り、富士と走る。感動が待つロードレース。富士五湖の一つ山中湖で行われるマラソン大会「第46回スポニチ山中湖ロードレース」開催！\n\n「スポニチ山中湖ロードレース」は、2026年5月31日（日）に開催予定の富士山と湖の絶景を楽しめる人気のマラソン大会です。山中湖一周（13.6km）とハーフマラソン（21.0975km）のコースがあり、初夏の爽やかな気候の中で、初心者からベテランまで富士五湖の自然を満喫できます。 \n  \n\n   \n\n\n\n\n\n\n\n\n\n\nこの投稿をInstagramで見る\n\n\n\n\n\n\n\n\n\n\n\n\n\n\n\n\n\n\n\n\n\n\n \n山中湖ロードレース(@yamanakako_roadrace)がシェアした投稿 \n\n\n \n■開催概要 \n  \n\n\n\n開催期間\n2026年5月31日(日)\n\n\n開催時間\n\n\nハーフスタート：9時15分\n山中湖一周スタート：9時30分\n\n\n\n\n開催場所\n山中湖中学校（スタート地点：役場前交差点、フィニッシュ地点：山中湖中学校 ）\n\n\n住所\n〒401-0501 山梨県南都留郡山中湖村山中341-40\n\n\n電話番号\n0555-62-9105(山中湖ロードレース事務局)\n\n\n参加人数\n10\,000人（選択受付順）\n\n\n参加費\n\n\nハーフ：7\,000円（税込）\n山中湖一周：6\,000円（税込）\nエントリー手数料：参加費の6%\n\n\n\n\n参加資格\n健康で完走可能な方で、ハーフマラソンは大会当日満16歳以上の方。\n\n\nエントリー\n\n\n受付期間：2025年12月1日（月）～2026年2月28日（土）\nエントリー方法：RUNNET（会員登録無料）より
URL:https://le-nido.com/event/2026-yamanakako-roadrace/
LOCATION:山中湖中学校\, 山梨県\, 南都留郡山中湖村山中341-40\, 401-0501\, Japan
END:VEVENT
END:VCALENDAR